BEGIN:VCALENDAR
VERSION:2.0
BEGIN:VEVENT
URL:
DTSTART:20260430T230000Z
DTEND:20260501T010000Z
SUMMARY:Richmond County Nurses Honor Guard supports Nurses House
DESCRIPTION:
LOCATION:
END:VEVENT
END:VCALENDAR